BEGIN:VCALENDAR
VERSION:2.0
PRODID:-//wp-events-plugin.com//7.2.3.1//EN
TZID:Europe/Berlin
X-WR-TIMEZONE:Europe/Berlin
BEGIN:VEVENT
UID:19531@kirche-boeckingen-klingenberg.de
DTSTART:20251123T093000Z
DTEND:20251123T103000Z
DTSTAMP:20250819T114814Z
URL:https://kirche-boeckingen-klingenberg.de/events/gottesdienst-zum-ewigk
 eitssonntag-in-der-kirche-in-klingenberg-pfarrerin-besserer
SUMMARY:Gottesdienst zum Ewigkeitssonntag in der Kirche in Klingenberg - Pf
 arrerin Besserer
DESCRIPTION:
CATEGORIES:Angebote,Gottesdienste,Kirche Klingenberg
LOCATION:Kirche Klingenberg\, Kirchgässle 10\, Heilbronn-Klingenberg\, 740
 81\, Deutschland
X-APPLE-STRUCTURED-LOCATION;VALUE=URI;X-ADDRESS=Kirchgässle 10\, Heilbronn
 -Klingenberg\, 74081\, Deutschland;X-APPLE-RADIUS=100;X-TITLE=Kirche Kling
 enberg:geo:0,0
END:VEVENT
END:VCALENDAR