BEGIN:VCALENDAR
VERSION:2.0
PRODID:-//wp-events-plugin.com//7.2.3.1//EN
TZID:Europe/Berlin
X-WR-TIMEZONE:Europe/Berlin
BEGIN:VEVENT
UID:17940@kirche-boeckingen-klingenberg.de
DTSTART:20240609T103000Z
DTEND:20240609T113000Z
DTSTAMP:20240513T120409Z
URL:https://kirche-boeckingen-klingenberg.de/events/gottesdienst-in-der-st
 adtkirche-pfarrer-stadler-mit-taufe
SUMMARY:Gottesdienst in der Stadtkirche - Pfarrer Stadler mit Taufe
DESCRIPTION:
CATEGORIES:Angebote,Gottesdienste,Stadtkirche
LOCATION:Stadtkirche\, Kirchsteige 10\, Heilbronn-Böckingen\, 74080\, Deut
 schland
X-APPLE-STRUCTURED-LOCATION;VALUE=URI;X-ADDRESS=Kirchsteige 10\, Heilbronn-
 Böckingen\, 74080\, Deutschland;X-APPLE-RADIUS=100;X-TITLE=Stadtkirche:ge
 o:0,0
END:VEVENT
END:VCALENDAR