BEGIN:VCALENDAR
VERSION:2.0
PRODID:-//wp-events-plugin.com//7.2.3.1//EN
TZID:Europe/Berlin
X-WR-TIMEZONE:Europe/Berlin
BEGIN:VEVENT
UID:17951@kirche-boeckingen-klingenberg.de
DTSTART:20240714T103000Z
DTEND:20240714T113000Z
DTSTAMP:20240514T075748Z
URL:https://kirche-boeckingen-klingenberg.de/events/gottesdienst-in-der-st
 adtkirche-pfarrer-stadler-5
SUMMARY:Gottesdienst in der Stadtkirche - Pfarrer Stadler
DESCRIPTION:Vorstellung der neuen Konfirmanden
CATEGORIES:Angebote,Gottesdienste,Stadtkirche
LOCATION:Stadtkirche\, Kirchsteige 10\, Heilbronn-Böckingen\, 74080\, Deut
 schland
X-APPLE-STRUCTURED-LOCATION;VALUE=URI;X-ADDRESS=Kirchsteige 10\, Heilbronn-
 Böckingen\, 74080\, Deutschland;X-APPLE-RADIUS=100;X-TITLE=Stadtkirche:ge
 o:0,0
END:VEVENT
END:VCALENDAR