BEGIN:VCALENDAR
VERSION:2.0
PRODID:-//wp-events-plugin.com//7.2.3.1//EN
TZID:Europe/Berlin
X-WR-TIMEZONE:Europe/Berlin
BEGIN:VEVENT
UID:19789@kirche-boeckingen-klingenberg.de
DTSTART;TZID=Europe/Berlin:20260201T104500
DTEND;TZID=Europe/Berlin:20260201T114500
DTSTAMP:20260126T145701Z
URL:https://kirche-boeckingen-klingenberg.de/events/gottesdienst-in-der-st
 adtkirche-pfarrer-stadler-17
SUMMARY:Bläser-Gottesdienst in der Stadtkirche - Pfarrer Stadler
DESCRIPTION:Bläser-Gottesdienst
CATEGORIES:Angebote,Gottesdienste,Stadtkirche
LOCATION:Stadtkirche\, Kirchsteige 10\, Heilbronn-Böckingen\, 74080\, Deut
 schland
X-APPLE-STRUCTURED-LOCATION;VALUE=URI;X-ADDRESS=Kirchsteige 10\, Heilbronn-
 Böckingen\, 74080\, Deutschland;X-APPLE-RADIUS=100;X-TITLE=Stadtkirche:ge
 o:0,0
END:VEVENT
BEGIN:VTIMEZONE
TZID:Europe/Berlin
X-LIC-LOCATION:Europe/Berlin
BEGIN:STANDARD
DTSTART:20251026T020000
TZOFFSETFROM:+0200
TZOFFSETTO:+0100
TZNAME:CET
END:STANDARD
END:VTIMEZONE
END:VCALENDAR