BEGIN:VCALENDAR
VERSION:2.0
PRODID:-//wp-events-plugin.com//7.2.3.1//EN
TZID:Europe/Berlin
X-WR-TIMEZONE:Europe/Berlin
BEGIN:VEVENT
UID:19016@kirche-boeckingen-klingenberg.de
DTSTART:20250928T104500Z
DTEND:20250928T114500Z
DTSTAMP:20250606T121834Z
URL:https://kirche-boeckingen-klingenberg.de/events/gottesdienst-in-der-st
 adtkirche-pfarrer-dr-rexer-mit-abendmahl-5
SUMMARY:Gottesdienst in der Stadtkirche - Pfarrer Dr. Rexer mit Abendmahl
DESCRIPTION:
CATEGORIES:Angebote,Gottesdienste,Stadtkirche
LOCATION:Stadtkirche\, Kirchsteige 10\, Heilbronn-Böckingen\, 74080\, Deut
 schland
X-APPLE-STRUCTURED-LOCATION;VALUE=URI;X-ADDRESS=Kirchsteige 10\, Heilbronn-
 Böckingen\, 74080\, Deutschland;X-APPLE-RADIUS=100;X-TITLE=Stadtkirche:ge
 o:0,0
END:VEVENT
END:VCALENDAR