BEGIN:VCALENDAR
VERSION:2.0
PRODID:-//wp-events-plugin.com//7.2.3.1//EN
TZID:Europe/Berlin
X-WR-TIMEZONE:Europe/Berlin
BEGIN:VEVENT
UID:20757@kirche-boeckingen-klingenberg.de
DTSTART;TZID=Europe/Berlin:20260517T093000
DTEND;TZID=Europe/Berlin:20260517T093000
DTSTAMP:20260408T132232Z
URL:https://kirche-boeckingen-klingenberg.de/events/gottesdienst-in-der-ki
 rche-in-klingenberg-pfarrerin-siegel-8
SUMMARY:Gottesdienst in der Kirche in Klingenberg - Pfarrerin Siegel
DESCRIPTION:
CATEGORIES:Angebote,Gottesdienste,Kirche Klingenberg
LOCATION:Kirche Klingenberg\, Kirchgässle 10\, Heilbronn-Klingenberg\, 740
 81\, Deutschland
X-APPLE-STRUCTURED-LOCATION;VALUE=URI;X-ADDRESS=Kirchgässle 10\, Heilbronn
 -Klingenberg\, 74081\, Deutschland;X-APPLE-RADIUS=100;X-TITLE=Kirche Kling
 enberg:geo:0,0
END:VEVENT
BEGIN:VTIMEZONE
TZID:Europe/Berlin
X-LIC-LOCATION:Europe/Berlin
BEGIN:DAYLIGHT
DTSTART:20260329T030000
TZOFFSETFROM:+0100
TZOFFSETTO:+0200
TZNAME:CEST
END:DAYLIGHT
END:VTIMEZONE
END:VCALENDAR