BEGIN:VCALENDAR
VERSION:2.0
PRODID:-//wp-events-plugin.com//7.2.3.1//EN
TZID:Europe/Berlin
X-WR-TIMEZONE:Europe/Berlin
BEGIN:VEVENT
UID:17939@kirche-boeckingen-klingenberg.de
DTSTART:20240609T100000Z
DTEND:20240609T110000Z
DTSTAMP:20240516T061356Z
URL:https://kirche-boeckingen-klingenberg.de/events/gottesdienst-im-neuen-
 feuerwehrmagazin-in-klingenberg-pfarrerin-siegel
SUMMARY:Gottesdienst im neuen Feuerwehrmagazin in Klingenberg - Pfarrerin S
 iegel
DESCRIPTION:
CATEGORIES:Angebote,Gottesdienste
END:VEVENT
END:VCALENDAR