BEGIN:VCALENDAR
VERSION:2.0
PRODID:-//wp-events-plugin.com//7.2.3.1//EN
TZID:Europe/Berlin
X-WR-TIMEZONE:Europe/Berlin
BEGIN:VEVENT
UID:15802@kirche-boeckingen-klingenberg.de
DTSTART:20230527T160000Z
DTEND:20230527T170000Z
DTSTAMP:20230324T111911Z
URL:https://kirche-boeckingen-klingenberg.de/events/gottesdienst-fuer-klei
 ne-leute-in-der-versoehnungskirche
SUMMARY:Gottesdienst für Kleine Leute in der Versöhnungskirche
DESCRIPTION:
CATEGORIES:Gottesdienst für kleine
 Leute,Gottesdienste,Raumkalender,Versöhnungskirche
LOCATION:Versöhnungskirche\, Holunderweg 57\, Heilbronn-Böckingen\, 74080
 \, Deutschland
X-APPLE-STRUCTURED-LOCATION;VALUE=URI;X-ADDRESS=Holunderweg 57\, Heilbronn-
 Böckingen\, 74080\, Deutschland;X-APPLE-RADIUS=100;X-TITLE=Versöhnungski
 rche:geo:0,0
END:VEVENT
END:VCALENDAR