BEGIN:VCALENDAR
VERSION:2.0
PRODID:-//wp-events-plugin.com//7.2.3.1//EN
TZID:Europe/Berlin
X-WR-TIMEZONE:Europe/Berlin
BEGIN:VEVENT
UID:16847@kirche-boeckingen-klingenberg.de
DTSTART:20231125T160000Z
DTEND:20231125T164500Z
DTSTAMP:20231106T081238Z
URL:https://kirche-boeckingen-klingenberg.de/events/gottesdienst-fuer-klei
 ne-leute-2
SUMMARY:Gottesdienst für Kleine Leute
DESCRIPTION:
CATEGORIES:Angebote,Gottesdienst für kleine Leute,Gottesdienste,Kirche
 Klingenberg
LOCATION:Kirche Klingenberg\, Kirchgässle 10\, Heilbronn-Klingenberg\, 740
 81\, Deutschland
X-APPLE-STRUCTURED-LOCATION;VALUE=URI;X-ADDRESS=Kirchgässle 10\, Heilbronn
 -Klingenberg\, 74081\, Deutschland;X-APPLE-RADIUS=100;X-TITLE=Kirche Kling
 enberg:geo:0,0
END:VEVENT
END:VCALENDAR