BEGIN:VCALENDAR
VERSION:2.0
PRODID:-//wp-events-plugin.com//7.2.3.1//EN
TZID:Europe/Berlin
X-WR-TIMEZONE:Europe/Berlin
BEGIN:VEVENT
UID:16899@kirche-boeckingen-klingenberg.de
DTSTART:20231210T093000Z
DTEND:20231210T103000Z
DTSTAMP:20231031T120207Z
URL:https://kirche-boeckingen-klingenberg.de/events/gottesdienst-diakon-bu
 ck-4
SUMMARY:Gottesdienst - Diakon Buck
DESCRIPTION:
CATEGORIES:Angebote,Gottesdienste,Kirche Klingenberg
LOCATION:Kirche Klingenberg\, Kirchgässle 10\, Heilbronn-Klingenberg\, 740
 81\, Deutschland
X-APPLE-STRUCTURED-LOCATION;VALUE=URI;X-ADDRESS=Kirchgässle 10\, Heilbronn
 -Klingenberg\, 74081\, Deutschland;X-APPLE-RADIUS=100;X-TITLE=Kirche Kling
 enberg:geo:0,0
END:VEVENT
END:VCALENDAR