BEGIN:VCALENDAR
VERSION:2.0
PRODID:-//wp-events-plugin.com//7.2.3.1//EN
TZID:Europe/Berlin
X-WR-TIMEZONE:Europe/Berlin
BEGIN:VEVENT
UID:17946@kirche-boeckingen-klingenberg.de
DTSTART:20240630T103000Z
DTEND:20240630T113000Z
DTSTAMP:20240514T074823Z
URL:https://kirche-boeckingen-klingenberg.de/events/gottesdienst-bei-den-g
 artenfreunden-pfarrerin-besserer
SUMMARY:Gottesdienst bei den Gartenfreunden - Pfarrerin Besserer
DESCRIPTION:
CATEGORIES:Angebote,Gottesdienste
END:VEVENT
END:VCALENDAR