BEGIN:VCALENDAR
VERSION:2.0
PRODID:-//wp-events-plugin.com//7.2.3.1//EN
TZID:Europe/Berlin
X-WR-TIMEZONE:Europe/Berlin
BEGIN:VEVENT
UID:19763@kirche-boeckingen-klingenberg.de
DTSTART;TZID=Europe/Berlin:20251231T183000
DTEND;TZID=Europe/Berlin:20251231T193000
DTSTAMP:20251219T155925Z
URL:https://kirche-boeckingen-klingenberg.de/events/gottesdienst-an-silves
 ter-in-der-kirche-inklingenberg-pfarrer-dr-rexer-mit-abendmahl
SUMMARY:Gottesdienst an Silvester in der Kirche inKlingenberg - Pfarrer Dr.
  Rexer mit Abendmahl
DESCRIPTION:
CATEGORIES:Angebote,Gottesdienste,Kirche Klingenberg
LOCATION:Kirche Klingenberg\, Kirchgässle 10\, Heilbronn-Klingenberg\, 740
 81\, Deutschland
X-APPLE-STRUCTURED-LOCATION;VALUE=URI;X-ADDRESS=Kirchgässle 10\, Heilbronn
 -Klingenberg\, 74081\, Deutschland;X-APPLE-RADIUS=100;X-TITLE=Kirche Kling
 enberg:geo:0,0
END:VEVENT
BEGIN:VTIMEZONE
TZID:Europe/Berlin
X-LIC-LOCATION:Europe/Berlin
BEGIN:STANDARD
DTSTART:20251026T020000
TZOFFSETFROM:+0200
TZOFFSETTO:+0100
TZNAME:CET
END:STANDARD
END:VTIMEZONE
END:VCALENDAR