BEGIN:VCALENDAR
VERSION:2.0
PRODID:-//wp-events-plugin.com//7.2.3.1//EN
TZID:Europe/Berlin
X-WR-TIMEZONE:Europe/Berlin
BEGIN:VEVENT
UID:19547@kirche-boeckingen-klingenberg.de
DTSTART:20251207T104500Z
DTEND:20251207T114500Z
DTSTAMP:20250919T110616Z
URL:https://kirche-boeckingen-klingenberg.de/events/gottesdienst-am-2-adve
 nt-in-der-stadtkirche-pfarrer-stadler
SUMMARY:Gottesdienst am 2. Advent in der Stadtkirche - Pfarrer Stadler
DESCRIPTION:
CATEGORIES:Angebote,Gottesdienste,Stadtkirche
LOCATION:Stadtkirche\, Kirchsteige 10\, Heilbronn-Böckingen\, 74080\, Deut
 schland
X-APPLE-STRUCTURED-LOCATION;VALUE=URI;X-ADDRESS=Kirchsteige 10\, Heilbronn-
 Böckingen\, 74080\, Deutschland;X-APPLE-RADIUS=100;X-TITLE=Stadtkirche:ge
 o:0,0
END:VEVENT
END:VCALENDAR