BEGIN:VCALENDAR
VERSION:2.0
PRODID:-//wp-events-plugin.com//7.2.3.1//EN
TZID:Europe/Berlin
X-WR-TIMEZONE:Europe/Berlin
BEGIN:VEVENT
UID:19562@kirche-boeckingen-klingenberg.de
DTSTART:20251225T104500Z
DTEND:20251225T114500Z
DTSTAMP:20250919T115341Z
URL:https://kirche-boeckingen-klingenberg.de/events/gottesdienst-am-1-weih
 nachtstag-in-der-stadtkirche-pfarrer-dr-rexer-mit-abendmahl
SUMMARY:Gottesdienst am 1. Weihnachtstag in der Stadtkirche - Pfarrer Dr. R
 exer mit Abendmahl
DESCRIPTION:Evang. Messe\n\nanschl. Kirchenkaffee
CATEGORIES:Angebote,Gottesdienste,Stadtkirche
LOCATION:Stadtkirche\, Kirchsteige 10\, Heilbronn-Böckingen\, 74080\, Deut
 schland
X-APPLE-STRUCTURED-LOCATION;VALUE=URI;X-ADDRESS=Kirchsteige 10\, Heilbronn-
 Böckingen\, 74080\, Deutschland;X-APPLE-RADIUS=100;X-TITLE=Stadtkirche:ge
 o:0,0
END:VEVENT
END:VCALENDAR