BEGIN:VCALENDAR
VERSION:2.0
PRODID:-//wp-events-plugin.com//7.2.3.1//EN
TZID:Europe/Berlin
X-WR-TIMEZONE:Europe/Berlin
BEGIN:VEVENT
UID:19561@kirche-boeckingen-klingenberg.de
DTSTART:20251225T093000Z
DTEND:20251225T103000Z
DTSTAMP:20250919T115209Z
URL:https://kirche-boeckingen-klingenberg.de/events/gottesdienst-am-1-weih
 nachtstag-in-der-auferstehungskirche-pfarrer-dr-rexer-mit-abendmahl
SUMMARY:Gottesdienst am 1. Weihnachtstag in der Auferstehungskirche - Pfarr
 er Dr. Rexer mit Abendmahl
DESCRIPTION:Evang. Messe
CATEGORIES:Angebote,Auferstehungskirche,Gottesdienste
LOCATION:Auferstehungskirche\, Sonnenbergstraße 19\, Heilbronn-Böckingen\
 , 74080\, Deutschland
X-APPLE-STRUCTURED-LOCATION;VALUE=URI;X-ADDRESS=Sonnenbergstraße 19\, Heil
 bronn-Böckingen\, 74080\, Deutschland;X-APPLE-RADIUS=100;X-TITLE=Auferste
 hungskirche:geo:0,0
END:VEVENT
END:VCALENDAR