BEGIN:VCALENDAR
VERSION:2.0
PRODID:-//wp-events-plugin.com//7.2.3.1//EN
TZID:Europe/Berlin
X-WR-TIMEZONE:Europe/Berlin
BEGIN:VEVENT
UID:14309@kirche-boeckingen-klingenberg.de
DTSTART:20230425T164500Z
DTEND:20230425T164500Z
DTSTAMP:20230215T043406Z
URL:https://kirche-boeckingen-klingenberg.de/events/gottesdienst-2023-04-2
 5
SUMMARY:Gottesdienst
DESCRIPTION:
CATEGORIES:Gottesdienste
LOCATION:Richard-Drautz-Stiftung\, Haus 3 Betreutes Wohnen\, Bruchsaler Str
 aße 32\, Heilbronn-Böckingen\, 74080\, Deutschland
X-APPLE-STRUCTURED-LOCATION;VALUE=URI;X-ADDRESS=Bruchsaler Straße 32\, Hei
 lbronn-Böckingen\, 74080\, Deutschland;X-APPLE-RADIUS=100;X-TITLE=Richard
 -Drautz-Stiftung\, Haus 3 Betreutes Wohnen:geo:0,0
END:VEVENT
END:VCALENDAR