BEGIN:VCALENDAR
VERSION:2.0
PRODID:-//wp-events-plugin.com//7.2.3.1//EN
TZID:Europe/Berlin
X-WR-TIMEZONE:Europe/Berlin
BEGIN:VEVENT
UID:14256@kirche-boeckingen-klingenberg.de
DTSTART:20230505T163000Z
DTEND:20230505T163000Z
DTSTAMP:20230214T193609Z
URL:https://kirche-boeckingen-klingenberg.de/events/gottesdienst-10
SUMMARY:Gottesdienst
DESCRIPTION:Pfarrer Stadler
CATEGORIES:Andacht,Gottesdienste
LOCATION:Richard-Drautz-Stiftung\, Bruchsaler Straße 32\, Heilbronn-Böcki
 ngen\, 74080\, Deutschland
X-APPLE-STRUCTURED-LOCATION;VALUE=URI;X-ADDRESS=Bruchsaler Straße 32\, Hei
 lbronn-Böckingen\, 74080\, Deutschland;X-APPLE-RADIUS=100;X-TITLE=Richard
 -Drautz-Stiftung:geo:0,0
END:VEVENT
END:VCALENDAR