BEGIN:VCALENDAR
VERSION:2.0
PRODID:-//wp-events-plugin.com//7.2.3.1//EN
TZID:Europe/Berlin
X-WR-TIMEZONE:Europe/Berlin
BEGIN:VEVENT
UID:20567@kirche-boeckingen-klingenberg.de
DTSTART;TZID=Europe/Berlin:20261216T200000
DTEND;TZID=Europe/Berlin:20261216T220000
DTSTAMP:20260219T143315Z
URL:https://kirche-boeckingen-klingenberg.de/events/gospelchorprobe-in-der
 -versoehnungskirche-2026-02-25-2026-03-04-2026-03-11-2026-03-18-2026-03-25
 -2026-04-01-2026-04-08-2026-04-15-2026-04-22-2026-04-29-2026-05-06-2026-05
 -13-2026-05-20-2-09-2026-12-16
SUMMARY:Gospelchorprobe in der Versöhnungskirche
DESCRIPTION:
CATEGORIES:Versöhnungskirche
LOCATION:Versöhnungskirche\, Holunderweg 57\, Heilbronn-Böckingen\, 74080
 \, Deutschland
X-APPLE-STRUCTURED-LOCATION;VALUE=URI;X-ADDRESS=Holunderweg 57\, Heilbronn-
 Böckingen\, 74080\, Deutschland;X-APPLE-RADIUS=100;X-TITLE=Versöhnungski
 rche:geo:0,0
END:VEVENT
BEGIN:VTIMEZONE
TZID:Europe/Berlin
X-LIC-LOCATION:Europe/Berlin
BEGIN:STANDARD
DTSTART:20261025T020000
TZOFFSETFROM:+0200
TZOFFSETTO:+0100
TZNAME:CET
END:STANDARD
END:VTIMEZONE
END:VCALENDAR