BEGIN:VCALENDAR
VERSION:2.0
PRODID:-//wp-events-plugin.com//7.2.3.1//EN
TZID:Europe/Berlin
X-WR-TIMEZONE:Europe/Berlin
BEGIN:VEVENT
UID:15829@kirche-boeckingen-klingenberg.de
DTSTART:20240218T140000Z
DTEND:20240218T170000Z
DTSTAMP:20240121T081413Z
URL:https://kirche-boeckingen-klingenberg.de/events/gemeinde-kaffee-in-kli
 ngenberg-2024-02-18
SUMMARY:Café Bauschaum
DESCRIPTION:Gemeindecafé zugunsten der Sanierung der Kirche Klingenberg
ATTACH;FMTTYPE=image/jpeg:https://kirche-boeckingen-klingenberg.de/wp-cont
 ent/uploads/2023/04/Cafe.png
CATEGORIES:Angebote,Lukas-Gemeindehaus
LOCATION:Lukas-Gemeindehaus\, Kirchgässle 10\, Heilbronn-Klingenberg\, 740
 81\, Deutschland
X-APPLE-STRUCTURED-LOCATION;VALUE=URI;X-ADDRESS=Kirchgässle 10\, Heilbronn
 -Klingenberg\, 74081\, Deutschland;X-APPLE-RADIUS=100;X-TITLE=Lukas-Gemein
 dehaus:geo:0,0
END:VEVENT
END:VCALENDAR