BEGIN:VCALENDAR
VERSION:2.0
PRODID:-//wp-events-plugin.com//7.2.3.1//EN
TZID:Europe/Berlin
X-WR-TIMEZONE:Europe/Berlin
BEGIN:VEVENT
UID:15801@kirche-boeckingen-klingenberg.de
DTSTART:20230407T180000Z
DTEND:20230407T190000Z
DTSTAMP:20230324T085809Z
URL:https://kirche-boeckingen-klingenberg.de/events/geistliche-abendmusik-
 an-karfreitag
SUMMARY:Geistliche Abendmusik an Karfreitag
DESCRIPTION:
CATEGORIES:Auferstehungskirche,Kirchenchor,Kirchenmusik,Projektchor,Raumka
 lender
LOCATION:Auferstehungskirche\, Sonnenbergstraße 19\, Heilbronn-Böckingen\
 , 74080\, Deutschland
X-APPLE-STRUCTURED-LOCATION;VALUE=URI;X-ADDRESS=Sonnenbergstraße 19\, Heil
 bronn-Böckingen\, 74080\, Deutschland;X-APPLE-RADIUS=100;X-TITLE=Auferste
 hungskirche:geo:0,0
END:VEVENT
END:VCALENDAR