BEGIN:VCALENDAR
VERSION:2.0
PRODID:-//wp-events-plugin.com//7.2.3.1//EN
TZID:Europe/Berlin
X-WR-TIMEZONE:Europe/Berlin
BEGIN:VEVENT
UID:18668@kirche-boeckingen-klingenberg.de
DTSTART:20251011T090000Z
DTEND:20251011T120000Z
DTSTAMP:20250108T081332Z
URL:https://kirche-boeckingen-klingenberg.de/events/frauenfruehstueck-in-k
 lingenberg-im-lukas-gemeindehaus-2
SUMMARY:Frauenfrühstück in Klingenberg im Lukas-Gemeindehaus
DESCRIPTION:
CATEGORIES:Angebote,Lukas-Gemeindehaus
LOCATION:Lukas-Gemeindehaus\, Kirchgässle 10\, Heilbronn-Klingenberg\, 740
 81\, Deutschland
X-APPLE-STRUCTURED-LOCATION;VALUE=URI;X-ADDRESS=Kirchgässle 10\, Heilbronn
 -Klingenberg\, 74081\, Deutschland;X-APPLE-RADIUS=100;X-TITLE=Lukas-Gemein
 dehaus:geo:0,0
END:VEVENT
END:VCALENDAR