BEGIN:VCALENDAR
VERSION:2.0
PRODID:-//wp-events-plugin.com//7.2.3.1//EN
TZID:Europe/Berlin
X-WR-TIMEZONE:Europe/Berlin
BEGIN:VEVENT
UID:19558@kirche-boeckingen-klingenberg.de
DTSTART:20251224T161500Z
DTEND:20251224T171500Z
DTSTAMP:20250919T115654Z
URL:https://kirche-boeckingen-klingenberg.de/events/familien-mitmach-gotte
 sdienst-in-der-kirche-in-klingenberg-pfarrerin-siegel-2
SUMMARY:Mitmach - Gottesdienst für Familien in der Kirche in Klingenberg -
  Pfarrerin Siegel
DESCRIPTION:Heilig Abend
CATEGORIES:Angebote,Gottesdienste,Kirche Klingenberg
LOCATION:Kirche Klingenberg\, Kirchgässle 10\, Heilbronn-Klingenberg\, 740
 81\, Deutschland
X-APPLE-STRUCTURED-LOCATION;VALUE=URI;X-ADDRESS=Kirchgässle 10\, Heilbronn
 -Klingenberg\, 74081\, Deutschland;X-APPLE-RADIUS=100;X-TITLE=Kirche Kling
 enberg:geo:0,0
END:VEVENT
END:VCALENDAR