BEGIN:VCALENDAR
VERSION:2.0
PRODID:-//wp-events-plugin.com//7.2.3.1//EN
TZID:Europe/Berlin
X-WR-TIMEZONE:Europe/Berlin
BEGIN:VEVENT
UID:19545@kirche-boeckingen-klingenberg.de
DTSTART:20251130T100000Z
DTEND:20251130T110000Z
DTSTAMP:20250919T105818Z
URL:https://kirche-boeckingen-klingenberg.de/events/familien-gottesdienst-
 zum-1-advent-in-der-kirche-in-klingenberg-pfarrerin-besserer
SUMMARY:Familien-Gottesdienst zum 1. Advent in der Kirche in Klingenberg - 
 Pfarrerin Besserer
DESCRIPTION:anschließend Kirchenkaffee
CATEGORIES:Angebote,Gottesdienste,Kirche Klingenberg
LOCATION:Kirche Klingenberg\, Kirchgässle 10\, Heilbronn-Klingenberg\, 740
 81\, Deutschland
X-APPLE-STRUCTURED-LOCATION;VALUE=URI;X-ADDRESS=Kirchgässle 10\, Heilbronn
 -Klingenberg\, 74081\, Deutschland;X-APPLE-RADIUS=100;X-TITLE=Kirche Kling
 enberg:geo:0,0
END:VEVENT
END:VCALENDAR