BEGIN:VCALENDAR
VERSION:2.0
PRODID:-//wp-events-plugin.com//7.2.3.1//EN
TZID:Europe/Berlin
X-WR-TIMEZONE:Europe/Berlin
BEGIN:VEVENT
UID:19019@kirche-boeckingen-klingenberg.de
DTSTART:20251005T104500Z
DTEND:20251005T114500Z
DTSTAMP:20250606T122517Z
URL:https://kirche-boeckingen-klingenberg.de/events/familien-gottesdienst-
 zu-erntedank-in-der-stadtkirche-pfarrer-dr-rexer
SUMMARY:Familien-Gottesdienst zu Erntedank in der Stadtkirche - Pfarrer Dr.
  Rexer
DESCRIPTION:mit der Geselligkeit
CATEGORIES:Angebote,Gottesdienste,Stadtkirche
END:VEVENT
END:VCALENDAR