BEGIN:VCALENDAR
VERSION:2.0
PRODID:-//wp-events-plugin.com//7.2.3.1//EN
TZID:Europe/Berlin
X-WR-TIMEZONE:Europe/Berlin
BEGIN:VEVENT
UID:19556@kirche-boeckingen-klingenberg.de
DTSTART:20251224T170000Z
DTEND:20251224T180000Z
DTSTAMP:20250919T113454Z
URL:https://kirche-boeckingen-klingenberg.de/events/familien-gottesdienst-
 mit-krippenspiel-in-der-stadtkirche-diakon-buck-pfarrer-stadler
SUMMARY:Familien-Gottesdienst mit Krippenspiel in der Stadtkirche - Diakon 
 Buck/Pfarrer Stadler
DESCRIPTION:Heilig Abend
CATEGORIES:Angebote,Gottesdienste,Stadtkirche
LOCATION:Stadtkirche\, Kirchsteige 10\, Heilbronn-Böckingen\, 74080\, Deut
 schland
X-APPLE-STRUCTURED-LOCATION;VALUE=URI;X-ADDRESS=Kirchsteige 10\, Heilbronn-
 Böckingen\, 74080\, Deutschland;X-APPLE-RADIUS=100;X-TITLE=Stadtkirche:ge
 o:0,0
END:VEVENT
END:VCALENDAR