BEGIN:VCALENDAR
VERSION:2.0
PRODID:-//wp-events-plugin.com//7.2.3.1//EN
TZID:Europe/Berlin
X-WR-TIMEZONE:Europe/Berlin
BEGIN:VEVENT
UID:19020@kirche-boeckingen-klingenberg.de
DTSTART:20251005T100000Z
DTEND:20251005T110000Z
DTSTAMP:20250606T122632Z
URL:https://kirche-boeckingen-klingenberg.de/events/familien-gottesdienst-
 in-der-kirche-in-klingenberg-pfarrerin-besserer-mit-abendmahl
SUMMARY:Familien-Gottesdienst in der Kirche in Klingenberg - Pfarrerin Bess
 erer mit Abendmahl
DESCRIPTION:anschl. Mittagessen
CATEGORIES:Angebote,Gottesdienste,Kirche Klingenberg
END:VEVENT
END:VCALENDAR