BEGIN:VCALENDAR
VERSION:2.0
PRODID:-//wp-events-plugin.com//7.2.3.1//EN
TZID:Europe/Berlin
X-WR-TIMEZONE:Europe/Berlin
BEGIN:VEVENT
UID:14269@kirche-boeckingen-klingenberg.de
DTSTART:20230325T100000Z
DTEND:20230325T130000Z
DTSTAMP:20230214T195619Z
URL:https://kirche-boeckingen-klingenberg.de/events/familien-aktionstag
SUMMARY:Familien-Aktionstag
DESCRIPTION:
LOCATION:Versöhnungskirche\, Holunderweg 57\, Heilbronn-Böckingen\, 74080
 \, Deutschland
X-APPLE-STRUCTURED-LOCATION;VALUE=URI;X-ADDRESS=Holunderweg 57\, Heilbronn-
 Böckingen\, 74080\, Deutschland;X-APPLE-RADIUS=100;X-TITLE=Versöhnungski
 rche:geo:0,0
END:VEVENT
END:VCALENDAR