BEGIN:VCALENDAR
VERSION:2.0
PRODID:-//wp-events-plugin.com//7.2.3.1//EN
TZID:Europe/Berlin
X-WR-TIMEZONE:Europe/Berlin
BEGIN:VEVENT
UID:18195@kirche-boeckingen-klingenberg.de
DTSTART:20240601T180000Z
DTEND:20240601T190000Z
DTSTAMP:20240523T093310Z
URL:https://kirche-boeckingen-klingenberg.de/events/circo-fantastico-vorfu
 ehrung-der-zirkusfreizeit-beim-familienzentrum-kreuzgrund
SUMMARY:Circo Fantastico - Vorführung der Zirkusfreizeit beim Familienzent
 rum Kreuzgrund
DESCRIPTION:
ATTACH;FMTTYPE=image/jpeg:https://kirche-boeckingen-klingenberg.de/wp-cont
 ent/uploads/2024/05/Circo-Fantastico_01-scaled.jpg
CATEGORIES:Angebote,Familienzentrum Kreuzgrund
LOCATION:Familienzentrum Kreuzgrund\, Holunderweg 57\, Heilbronn-Böckingen
 \, 74080\, Deutschland
X-APPLE-STRUCTURED-LOCATION;VALUE=URI;X-ADDRESS=Holunderweg 57\, Heilbronn-
 Böckingen\, 74080\, Deutschland;X-APPLE-RADIUS=100;X-TITLE=Familienzentru
 m Kreuzgrund:geo:0,0
END:VEVENT
END:VCALENDAR