BEGIN:VCALENDAR
VERSION:2.0
PRODID:-//wp-events-plugin.com//7.2.3.1//EN
TZID:Europe/Berlin
X-WR-TIMEZONE:Europe/Berlin
BEGIN:VEVENT
UID:16904@kirche-boeckingen-klingenberg.de
DTSTART:20231224T170000Z
DTEND:20231224T180000Z
DTSTAMP:20231031T122035Z
URL:https://kirche-boeckingen-klingenberg.de/events/christvesper-pfarrer-d
 r-rexer
SUMMARY:Christvesper - Pfarrer Dr. Rexer
DESCRIPTION:mit dem Kirchenchor und Instrumentalisten
CATEGORIES:Angebote,Auferstehungskirche,Gottesdienste
LOCATION:Auferstehungskirche\, Sonnenbergstraße 19\, Heilbronn-Böckingen\
 , 74080\, Deutschland
X-APPLE-STRUCTURED-LOCATION;VALUE=URI;X-ADDRESS=Sonnenbergstraße 19\, Heil
 bronn-Böckingen\, 74080\, Deutschland;X-APPLE-RADIUS=100;X-TITLE=Auferste
 hungskirche:geo:0,0
END:VEVENT
END:VCALENDAR