BEGIN:VCALENDAR
VERSION:2.0
PRODID:-//wp-events-plugin.com//7.2.3.1//EN
TZID:Europe/Berlin
X-WR-TIMEZONE:Europe/Berlin
BEGIN:VEVENT
UID:19555@kirche-boeckingen-klingenberg.de
DTSTART:20251224T170000Z
DTEND:20251224T180000Z
DTSTAMP:20250919T113217Z
URL:https://kirche-boeckingen-klingenberg.de/events/christvesper-in-der-au
 ferstehungskirche-pfarrer-dr-rexer-mit-dem-kirchenchor-2
SUMMARY:Christvesper in der Auferstehungskirche - Pfarrer Dr. Rexer mit dem
  Kirchenchor
DESCRIPTION:Heilig Abend
CATEGORIES:Angebote,Auferstehungskirche,Gottesdienste
LOCATION:Auferstehungskirche\, Sonnenbergstraße 19\, Heilbronn-Böckingen\
 , 74080\, Deutschland
X-APPLE-STRUCTURED-LOCATION;VALUE=URI;X-ADDRESS=Sonnenbergstraße 19\, Heil
 bronn-Böckingen\, 74080\, Deutschland;X-APPLE-RADIUS=100;X-TITLE=Auferste
 hungskirche:geo:0,0
END:VEVENT
END:VCALENDAR