BEGIN:VCALENDAR
VERSION:2.0
PRODID:-//wp-events-plugin.com//7.2.3.1//EN
TZID:Europe/Berlin
X-WR-TIMEZONE:Europe/Berlin
BEGIN:VEVENT
UID:16906@kirche-boeckingen-klingenberg.de
DTSTART:20231224T230000Z
DTEND:20231224T234500Z
DTSTAMP:20231031T122303Z
URL:https://kirche-boeckingen-klingenberg.de/events/christmette-diakon-buc
 k-und-pfarrerin-alexandra-winter
SUMMARY:Christmette - Diakon Buck und Pfarrerin Alexandra Winter
DESCRIPTION:
CATEGORIES:Angebote,Gottesdienste,Stadtkirche
LOCATION:Stadtkirche\, Kirchsteige 10\, Heilbronn-Böckingen\, 74080\, Deut
 schland
X-APPLE-STRUCTURED-LOCATION;VALUE=URI;X-ADDRESS=Kirchsteige 10\, Heilbronn-
 Böckingen\, 74080\, Deutschland;X-APPLE-RADIUS=100;X-TITLE=Stadtkirche:ge
 o:0,0
END:VEVENT
END:VCALENDAR