BEGIN:VCALENDAR
VERSION:2.0
PRODID:-//wp-events-plugin.com//7.2.3.1//EN
TZID:Europe/Berlin
X-WR-TIMEZONE:Europe/Berlin
BEGIN:VEVENT
UID:19768@kirche-boeckingen-klingenberg.de
DTSTART;TZID=Europe/Berlin:20260110T080000
DTEND;TZID=Europe/Berlin:20260110T150000
DTSTAMP:20251222T143857Z
URL:https://kirche-boeckingen-klingenberg.de/events/christbaumsammlung-von
 -ejboe-und-pfadfindern-in-boeckingen
SUMMARY:Christbaumsammlung von EJBÖ und Pfadfindern in Böckingen
DESCRIPTION:
CATEGORIES:Angebote
END:VEVENT
BEGIN:VTIMEZONE
TZID:Europe/Berlin
X-LIC-LOCATION:Europe/Berlin
BEGIN:STANDARD
DTSTART:20251026T020000
TZOFFSETFROM:+0200
TZOFFSETTO:+0100
TZNAME:CET
END:STANDARD
END:VTIMEZONE
END:VCALENDAR