BEGIN:VCALENDAR
VERSION:2.0
PRODID:-//wp-events-plugin.com//7.2.3.1//EN
TZID:Europe/Berlin
X-WR-TIMEZONE:Europe/Berlin
BEGIN:VEVENT
UID:16873@kirche-boeckingen-klingenberg.de
DTSTART:20231112T140000Z
DTEND:20231112T163000Z
DTSTAMP:20231102T094618Z
URL:https://kirche-boeckingen-klingenberg.de/events/buecherbasar-der-pfadf
 inder-vcp
SUMMARY:Bücherbasar der Pfadfinder VCP
DESCRIPTION:
CATEGORIES:alle Räume,Petrusgemeindehaus
LOCATION:Petrusgemeindehaus\, Ludwigsburger Straße 125\, Heilbronn-Böckin
 gen\, 74080\, Deutschland
X-APPLE-STRUCTURED-LOCATION;VALUE=URI;X-ADDRESS=Ludwigsburger Straße 125\,
  Heilbronn-Böckingen\, 74080\, Deutschland;X-APPLE-RADIUS=100;X-TITLE=Pet
 rusgemeindehaus:geo:0,0
END:VEVENT
END:VCALENDAR