BEGIN:VCALENDAR
VERSION:2.0
PRODID:-//wp-events-plugin.com//7.2.3.1//EN
TZID:Europe/Berlin
X-WR-TIMEZONE:Europe/Berlin
BEGIN:VEVENT
UID:14321@kirche-boeckingen-klingenberg.de
DTSTART:20230302T090000Z
DTEND:20230302T090000Z
DTSTAMP:20230309T024525Z
URL:https://kirche-boeckingen-klingenberg.de/events/boeckingen-%c2%b7-star
 t-in-den-tag-2023-03-02
SUMMARY:Böckingen · Start in den Tag
DESCRIPTION:Beginnen Sie den Tag mit einem reichhaltigen Frühstück und ne
 ttem Beisammensein.\nInfos Frau Christa Mühleck\, Telefon: 07131 30782
CATEGORIES:Angebote,Start in den Tag
LOCATION:Auferstehungskirche\, Sonnenbergstraße 19\, Heilbronn-Böckingen\
 , 74080\, Deutschland
X-APPLE-STRUCTURED-LOCATION;VALUE=URI;X-ADDRESS=Sonnenbergstraße 19\, Heil
 bronn-Böckingen\, 74080\, Deutschland;X-APPLE-RADIUS=100;X-TITLE=Auferste
 hungskirche:geo:0,0
END:VEVENT
END:VCALENDAR