BEGIN:VCALENDAR
VERSION:2.0
PRODID:-//wp-events-plugin.com//7.2.3.1//EN
TZID:Europe/Berlin
X-WR-TIMEZONE:Europe/Berlin
BEGIN:VEVENT
UID:14313@kirche-boeckingen-klingenberg.de
DTSTART:20230304T140000Z
DTEND:20230304T180000Z
DTSTAMP:20230220T042823Z
URL:https://kirche-boeckingen-klingenberg.de/events/besuchsdienstseminar-g
 laube-im-gespraech
SUMMARY:Besuchsdienstseminar - Glaube im Gespräch
DESCRIPTION:Wer Geburtstags- oder Krankenbesuche im Auftrag einer Kirchenge
 meinde macht\, kommt in die verschiedensten Situationen: Mal sind die Besu
 chten alleine\, mal von Gästen umringt. Und nicht selten ergeben sich Ges
 präche\, in denen plötzlich vom Glauben die Rede ist. Das aber ist eine 
 echte Herausforderung\, denn nicht jede*r ist geübt darin\, Hoffnungen\, 
 Trost und Überzeugungen in Worte zu fassen.\n\nDie evang. Citykirche läd
 t alle langjährigen und neuen Mitarbeitenden im Besuchsdienst sowie Inter
 essierte zu einem Nachmittag ein\, der für diesen Dienst stärkt.\n\n 	Wi
 e reagiere ich\, wenn ein Mensch mir seine Sorgen anvertraut?\n 	Ist der G
 laube zu persönlich\, um darüber zu sprechen?\n 	Wie kann ich ausdrücke
 n\, was mich selbst trägt und umtreibt?\n 	Wann genügt zugewandtes Inter
 esse\, wann bin ich selbst mit meiner Haltung gefragt?\n\nWir nehmen uns Z
 eit\, u. a. diesen sensiblen Themen und Fragen nachzugehen und kommen dazu
  untereinander ins Gespräch.\n\nFür das leibliche Wohl ist dabei gesorgt
 \, und auch der „unverzweckte“ Austausch soll nicht zu kurz kommen.\n\
 nLeitung: Alexandra Winter\, Citypfarrerin\, Supervisorin M.A.\nVeranstalt
 erin: Evangelische Citykirche Heilbronn\nDie Teilnahme ist kostenlos\, Spe
 nden erbeten.\nMaximal 40 Teilnehmer*innen aus dem Kirchenbezirk Heilbronn
  und Nachbarbezirken.\nAnmeldung bis spätestens 27. Februar im Citypfarra
 mt\,\nTelefon: 07131 179850\, Mail: Pfarramt.Heilbronn.Citykirche@elkw.de
CATEGORIES:Besuchsdienst,Gemeindearbeit
LOCATION:Familienzentrum Kreuzgrund\, Holunderweg 57\, Heilbronn-Böckingen
 \, 74080\, Deutschland
X-APPLE-STRUCTURED-LOCATION;VALUE=URI;X-ADDRESS=Holunderweg 57\, Heilbronn-
 Böckingen\, 74080\, Deutschland;X-APPLE-RADIUS=100;X-TITLE=Familienzentru
 m Kreuzgrund:geo:0,0
END:VEVENT
END:VCALENDAR