BEGIN:VCALENDAR
VERSION:2.0
PRODID:-//wp-events-plugin.com//7.2.3.1//EN
TZID:Europe/Berlin
X-WR-TIMEZONE:Europe/Berlin
BEGIN:VEVENT
UID:14319@kirche-boeckingen-klingenberg.de
DTSTART:20230514T190000Z
DTEND:20230514T200000Z
DTSTAMP:20230502T091936Z
URL:https://kirche-boeckingen-klingenberg.de/events/benefizkonzert
SUMMARY:Benefizkonzert
DESCRIPTION:Böckinger Chöre singen zugunsten der neuen Orgel in der Stadt
 kirche
CATEGORIES:Kirchenmusik
LOCATION:Auferstehungskirche\, Sonnenbergstraße 19\, Heilbronn-Böckingen\
 , 74080\, Deutschland
X-APPLE-STRUCTURED-LOCATION;VALUE=URI;X-ADDRESS=Sonnenbergstraße 19\, Heil
 bronn-Böckingen\, 74080\, Deutschland;X-APPLE-RADIUS=100;X-TITLE=Auferste
 hungskirche:geo:0,0
END:VEVENT
END:VCALENDAR