BEGIN:VCALENDAR
VERSION:2.0
PRODID:-//wp-events-plugin.com//7.2.3.1//EN
TZID:Europe/Berlin
X-WR-TIMEZONE:Europe/Berlin
BEGIN:VEVENT
UID:19540@kirche-boeckingen-klingenberg.de
DTSTART:20250927T140000Z
DTEND:20250927T160000Z
DTSTAMP:20250918T041710Z
URL:https://kirche-boeckingen-klingenberg.de/events/baby-und-kinderbasar-k
 ita-regenbogen
SUMMARY:Baby- und Kinderbasar (Kita Regenbogen)
DESCRIPTION:Für Schwangere mit Mutterpass + 1 Begleitperson ab 13:30 Uhr
ATTACH;FMTTYPE=image/jpeg:https://kirche-boeckingen-klingenberg.de/wp-cont
 ent/uploads/2025/09/Babybasar_2025-09-27.jpeg
CATEGORIES:Kinder
LOCATION:Grundschule Klingenberg\, Sonnenhalde 25\, Heilbronn-Klingenberg\,
  74081\, Deutschland
X-APPLE-STRUCTURED-LOCATION;VALUE=URI;X-ADDRESS=Sonnenhalde 25\, Heilbronn-
 Klingenberg\, 74081\, Deutschland;X-APPLE-RADIUS=100;X-TITLE=Grundschule K
 lingenberg:geo:0,0
END:VEVENT
END:VCALENDAR