BEGIN:VCALENDAR
VERSION:2.0
PRODID:-//wp-events-plugin.com//7.2.3.1//EN
TZID:Europe/Berlin
X-WR-TIMEZONE:Europe/Berlin
BEGIN:VEVENT
UID:20766@kirche-boeckingen-klingenberg.de
DTSTART;TZID=Europe/Berlin:20261212T100000
DTEND;TZID=Europe/Berlin:20261212T120000
DTSTAMP:20260416T103438Z
URL:https://kirche-boeckingen-klingenberg.de/events/ausgebucht-vk-21
SUMMARY:ausgebucht: VK
DESCRIPTION:
CATEGORIES:Raumkalender,Versöhnungskirche
LOCATION:Versöhnungskirche\, Holunderweg 57\, Heilbronn-Böckingen\, 74080
 \, Deutschland
X-APPLE-STRUCTURED-LOCATION;VALUE=URI;X-ADDRESS=Holunderweg 57\, Heilbronn-
 Böckingen\, 74080\, Deutschland;X-APPLE-RADIUS=100;X-TITLE=Versöhnungski
 rche:geo:0,0
END:VEVENT
BEGIN:VTIMEZONE
TZID:Europe/Berlin
X-LIC-LOCATION:Europe/Berlin
BEGIN:STANDARD
DTSTART:20261025T020000
TZOFFSETFROM:+0200
TZOFFSETTO:+0100
TZNAME:CET
END:STANDARD
END:VTIMEZONE
END:VCALENDAR