BEGIN:VCALENDAR
VERSION:2.0
PRODID:-//wp-events-plugin.com//7.2.3.1//EN
TZID:Europe/Berlin
X-WR-TIMEZONE:Europe/Berlin
BEGIN:VEVENT
UID:18973@kirche-boeckingen-klingenberg.de
DTSTART:20251220T100000Z
DTEND:20251220T120000Z
DTSTAMP:20250514T091545Z
URL:https://kirche-boeckingen-klingenberg.de/events/ausgebucht-vk-19
SUMMARY:ausgebucht: VK
DESCRIPTION:
CATEGORIES:Raumkalender,Versöhnungskirche
LOCATION:Versöhnungskirche\, Holunderweg 57\, Heilbronn-Böckingen\, 74080
 \, Deutschland
X-APPLE-STRUCTURED-LOCATION;VALUE=URI;X-ADDRESS=Holunderweg 57\, Heilbronn-
 Böckingen\, 74080\, Deutschland;X-APPLE-RADIUS=100;X-TITLE=Versöhnungski
 rche:geo:0,0
END:VEVENT
END:VCALENDAR