BEGIN:VCALENDAR
VERSION:2.0
PRODID:-//wp-events-plugin.com//7.2.3.1//EN
TZID:Europe/Berlin
X-WR-TIMEZONE:Europe/Berlin
BEGIN:VEVENT
UID:19535@kirche-boeckingen-klingenberg.de
DTSTART:20250922T180000Z
DTEND:20250922T200000Z
DTSTAMP:20250916T112941Z
URL:https://kirche-boeckingen-klingenberg.de/events/ausgebucht-stadtkirche
 -9
SUMMARY:ausgebucht: Stadtkirche
DESCRIPTION:
CATEGORIES:Raumkalender,Stadtkirche
LOCATION:Stadtkirche\, Kirchsteige 10\, Heilbronn-Böckingen\, 74080\, Deut
 schland
X-APPLE-STRUCTURED-LOCATION;VALUE=URI;X-ADDRESS=Kirchsteige 10\, Heilbronn-
 Böckingen\, 74080\, Deutschland;X-APPLE-RADIUS=100;X-TITLE=Stadtkirche:ge
 o:0,0
END:VEVENT
END:VCALENDAR