BEGIN:VCALENDAR
VERSION:2.0
PRODID:-//wp-events-plugin.com//7.2.3.1//EN
TZID:Europe/Berlin
X-WR-TIMEZONE:Europe/Berlin
BEGIN:VEVENT
UID:14645@kirche-boeckingen-klingenberg.de
DTSTART:20230422T140000Z
DTEND:20230422T150000Z
DTSTAMP:20230224T032146Z
URL:https://kirche-boeckingen-klingenberg.de/events/ausgebucht-stadtkirche
 -2
SUMMARY:ausgebucht: Stadtkirche
DESCRIPTION:
CATEGORIES:Raumkalender,Stadtkirche
LOCATION:Stadtkirche\, Kirchsteige 10\, Heilbronn-Böckingen\, 74080\, Deut
 schland
X-APPLE-STRUCTURED-LOCATION;VALUE=URI;X-ADDRESS=Kirchsteige 10\, Heilbronn-
 Böckingen\, 74080\, Deutschland;X-APPLE-RADIUS=100;X-TITLE=Stadtkirche:ge
 o:0,0
END:VEVENT
END:VCALENDAR