BEGIN:VCALENDAR
VERSION:2.0
PRODID:-//wp-events-plugin.com//7.2.3.1//EN
TZID:Europe/Berlin
X-WR-TIMEZONE:Europe/Berlin
BEGIN:VEVENT
UID:16835@kirche-boeckingen-klingenberg.de
DTSTART:20240609T070000Z
DTEND:20240609T210000Z
DTSTAMP:20230829T083424Z
URL:https://kirche-boeckingen-klingenberg.de/events/ausgebucht-pg-5
SUMMARY:ausgebucht: PG
DESCRIPTION:
CATEGORIES:Großer Saal,Kleiner Saal,Petrusgemeindehaus,Raumkalender
LOCATION:Petrusgemeindehaus\, Ludwigsburger Straße 125\, Heilbronn-Böckin
 gen\, 74080\, Deutschland
X-APPLE-STRUCTURED-LOCATION;VALUE=URI;X-ADDRESS=Ludwigsburger Straße 125\,
  Heilbronn-Böckingen\, 74080\, Deutschland;X-APPLE-RADIUS=100;X-TITLE=Pet
 rusgemeindehaus:geo:0,0
END:VEVENT
END:VCALENDAR