BEGIN:VCALENDAR
VERSION:2.0
PRODID:-//wp-events-plugin.com//7.2.3.1//EN
TZID:Europe/Berlin
X-WR-TIMEZONE:Europe/Berlin
BEGIN:VEVENT
UID:14633@kirche-boeckingen-klingenberg.de
DTSTART:20230622T080000Z
DTEND:20230622T120000Z
DTSTAMP:20230309T024322Z
URL:https://kirche-boeckingen-klingenberg.de/events/ausgebucht-kueche-ug-a
 uferstehungskirche-13
SUMMARY:ausgebucht: Küche UG | Auferstehungskirche
DESCRIPTION:
CATEGORIES:Auferstehungskirche,Küche UG,Raumkalender
LOCATION:Auferstehungskirche\, Sonnenbergstraße 19\, Heilbronn-Böckingen\
 , 74080\, Deutschland
X-APPLE-STRUCTURED-LOCATION;VALUE=URI;X-ADDRESS=Sonnenbergstraße 19\, Heil
 bronn-Böckingen\, 74080\, Deutschland;X-APPLE-RADIUS=100;X-TITLE=Auferste
 hungskirche:geo:0,0
END:VEVENT
END:VCALENDAR