BEGIN:VCALENDAR
VERSION:2.0
PRODID:-//wp-events-plugin.com//7.2.3.1//EN
TZID:Europe/Berlin
X-WR-TIMEZONE:Europe/Berlin
BEGIN:VEVENT
UID:21058@kirche-boeckingen-klingenberg.de
DTSTART;TZID=Europe/Berlin:20280703T180000
DTEND;TZID=Europe/Berlin:20280703T210000
DTSTAMP:20260424T123427Z
URL:https://kirche-boeckingen-klingenberg.de/events/ausgebucht-jochen-klep
 per-zimmer-2-2028-07-03
SUMMARY:ausgebucht: Jochen-Klepper-Zimmer
DESCRIPTION:
CATEGORIES:Jochen-Klepper-Zimmer,Raumkalender
LOCATION:Jochen-Klepper-Zimmer\, Kirchgässle 10\, 74081 Heilbronn-Klingenb
 erg\, Deutschland
X-APPLE-STRUCTURED-LOCATION;VALUE=URI;X-ADDRESS=Kirchgässle 10\, 74081 Hei
 lbronn-Klingenberg\, Deutschland;X-APPLE-RADIUS=100;X-TITLE=Jochen-Klepper
 -Zimmer:geo:0,0
END:VEVENT
BEGIN:VTIMEZONE
TZID:Europe/Berlin
X-LIC-LOCATION:Europe/Berlin
BEGIN:DAYLIGHT
DTSTART:20280326T030000
TZOFFSETFROM:+0100
TZOFFSETTO:+0200
TZNAME:CEST
END:DAYLIGHT
END:VTIMEZONE
END:VCALENDAR