BEGIN:VCALENDAR
VERSION:2.0
PRODID:-//wp-events-plugin.com//7.2.3.1//EN
TZID:Europe/Berlin
X-WR-TIMEZONE:Europe/Berlin
BEGIN:VEVENT
UID:15861@kirche-boeckingen-klingenberg.de
DTSTART:20230612T093000Z
DTEND:20230612T113000Z
DTSTAMP:20230530T101546Z
URL:https://kirche-boeckingen-klingenberg.de/events/ausgebucht-grosser-saa
 l-ug-auferstehungskirche-4-2023-06-12
SUMMARY:Tanze mit und bleibe fit
DESCRIPTION:
CATEGORIES:Auferstehungskirche,Großer Saal UG,Tanze mit und bleibe fit
LOCATION:Auferstehungskirche\, Sonnenbergstraße 19\, Heilbronn-Böckingen\
 , 74080\, Deutschland
X-APPLE-STRUCTURED-LOCATION;VALUE=URI;X-ADDRESS=Sonnenbergstraße 19\, Heil
 bronn-Böckingen\, 74080\, Deutschland;X-APPLE-RADIUS=100;X-TITLE=Auferste
 hungskirche:geo:0,0
END:VEVENT
END:VCALENDAR