BEGIN:VCALENDAR
VERSION:2.0
PRODID:-//wp-events-plugin.com//7.2.3.1//EN
TZID:Europe/Berlin
X-WR-TIMEZONE:Europe/Berlin
BEGIN:VEVENT
UID:14430@kirche-boeckingen-klingenberg.de
DTSTART:20230207T100000Z
DTEND:20240326T120000Z
DTSTAMP:20230222T034733Z
URL:https://kirche-boeckingen-klingenberg.de/event-recurring/ausgebucht-gr
 osser-saal-ug-auferstehungskirche-2
SUMMARY:ausgebucht: Großer Saal UG | Auferstehungskirche
DESCRIPTION:
CATEGORIES:Auferstehungskirche,Großer Saal UG,Raumkalender
LOCATION:Auferstehungskirche\, Sonnenbergstraße 19\, Heilbronn-Böckingen\
 , 74080\, Deutschland
X-APPLE-STRUCTURED-LOCATION;VALUE=URI;X-ADDRESS=Sonnenbergstraße 19\, Heil
 bronn-Böckingen\, 74080\, Deutschland;X-APPLE-RADIUS=100;X-TITLE=Auferste
 hungskirche:geo:0,0
END:VEVENT
END:VCALENDAR