BEGIN:VCALENDAR
VERSION:2.0
PRODID:-//wp-events-plugin.com//7.2.3.1//EN
TZID:Europe/Berlin
X-WR-TIMEZONE:Europe/Berlin
BEGIN:VEVENT
UID:19571@kirche-boeckingen-klingenberg.de
DTSTART:20251114T163000Z
DTEND:20251114T180000Z
DTSTAMP:20251001T070835Z
URL:https://kirche-boeckingen-klingenberg.de/events/ausgebucht-fzk-2025-10
 -17-2025-10-24-2025-10-31-2025-11-07-2025-11-14
SUMMARY:ausgebucht: FZK
DESCRIPTION:
CATEGORIES:Familienzentrum Kreuzgrund,Großer Saal,Raumkalender
LOCATION:Familienzentrum Kreuzgrund\, Holunderweg 57\, Heilbronn-Böckingen
 \, 74080\, Deutschland
X-APPLE-STRUCTURED-LOCATION;VALUE=URI;X-ADDRESS=Holunderweg 57\, Heilbronn-
 Böckingen\, 74080\, Deutschland;X-APPLE-RADIUS=100;X-TITLE=Familienzentru
 m Kreuzgrund:geo:0,0
END:VEVENT
END:VCALENDAR