BEGIN:VCALENDAR
VERSION:2.0
PRODID:-//wp-events-plugin.com//7.2.3.1//EN
TZID:Europe/Berlin
X-WR-TIMEZONE:Europe/Berlin
BEGIN:VEVENT
UID:19736@kirche-boeckingen-klingenberg.de
DTSTART;TZID=Europe/Berlin:20260519T193000
DTEND;TZID=Europe/Berlin:20260519T220000
DTSTAMP:20251126T124429Z
URL:https://kirche-boeckingen-klingenberg.de/events/ausgebucht-fzk-131
SUMMARY:ausgebucht: FZK
DESCRIPTION:
CATEGORIES:Familienzentrum Kreuzgrund,Großer Saal,Raumkalender
LOCATION:Familienzentrum Kreuzgrund\, Holunderweg 57\, Heilbronn-Böckingen
 \, 74080\, Deutschland
X-APPLE-STRUCTURED-LOCATION;VALUE=URI;X-ADDRESS=Holunderweg 57\, Heilbronn-
 Böckingen\, 74080\, Deutschland;X-APPLE-RADIUS=100;X-TITLE=Familienzentru
 m Kreuzgrund:geo:0,0
END:VEVENT
BEGIN:VTIMEZONE
TZID:Europe/Berlin
X-LIC-LOCATION:Europe/Berlin
BEGIN:DAYLIGHT
DTSTART:20260329T030000
TZOFFSETFROM:+0100
TZOFFSETTO:+0200
TZNAME:CEST
END:DAYLIGHT
END:VTIMEZONE
END:VCALENDAR