BEGIN:VCALENDAR
VERSION:2.0
PRODID:-//wp-events-plugin.com//7.2.3.1//EN
TZID:Europe/Berlin
X-WR-TIMEZONE:Europe/Berlin
BEGIN:VEVENT
UID:20896@kirche-boeckingen-klingenberg.de
DTSTART;TZID=Europe/Berlin:20280920T193000
DTEND;TZID=Europe/Berlin:20280920T213000
DTSTAMP:20260421T084417Z
URL:https://kirche-boeckingen-klingenberg.de/events/ausgebucht-fzk-13-2026
 -04-22-2026-04-29-2026-05-06-2026-05-13-2026-05-20-2026-05-27-2026-06-03-2
 026-06-10-2026-06-17-2026-06-24-2026-07-01-2026-07-08-2026-07-15-2026-07-2
 2-2026-07-29-202-13-2028-09-20
SUMMARY:ausgebucht: FZK
DESCRIPTION:
CATEGORIES:Familienzentrum Kreuzgrund,Großer Saal,Raumkalender
LOCATION:Familienzentrum Kreuzgrund\, Holunderweg 57\, Heilbronn-Böckingen
 \, 74080\, Deutschland
X-APPLE-STRUCTURED-LOCATION;VALUE=URI;X-ADDRESS=Holunderweg 57\, Heilbronn-
 Böckingen\, 74080\, Deutschland;X-APPLE-RADIUS=100;X-TITLE=Familienzentru
 m Kreuzgrund:geo:0,0
END:VEVENT
BEGIN:VTIMEZONE
TZID:Europe/Berlin
X-LIC-LOCATION:Europe/Berlin
BEGIN:DAYLIGHT
DTSTART:20280326T030000
TZOFFSETFROM:+0100
TZOFFSETTO:+0200
TZNAME:CEST
END:DAYLIGHT
END:VTIMEZONE
END:VCALENDAR