BEGIN:VCALENDAR
VERSION:2.0
PRODID:-//wp-events-plugin.com//7.2.3.1//EN
TZID:Europe/Berlin
X-WR-TIMEZONE:Europe/Berlin
BEGIN:VEVENT
UID:19538@kirche-boeckingen-klingenberg.de
DTSTART:20260926T080000Z
DTEND:20260926T120000Z
DTSTAMP:20250917T114752Z
URL:https://kirche-boeckingen-klingenberg.de/events/ausgebucht-fzk-123
SUMMARY:ausgebucht: FZK
DESCRIPTION:
CATEGORIES:Familienzentrum Kreuzgrund,Großer Saal,Küche,Raumkalender
LOCATION:Familienzentrum Kreuzgrund\, Holunderweg 57\, Heilbronn-Böckingen
 \, 74080\, Deutschland
X-APPLE-STRUCTURED-LOCATION;VALUE=URI;X-ADDRESS=Holunderweg 57\, Heilbronn-
 Böckingen\, 74080\, Deutschland;X-APPLE-RADIUS=100;X-TITLE=Familienzentru
 m Kreuzgrund:geo:0,0
END:VEVENT
END:VCALENDAR